BEGIN:VCALENDAR
VERSION:2.0
PRODID:-//Scuba Dreams - ECPv6.10.2//NONSGML v1.0//EN
CALSCALE:GREGORIAN
METHOD:PUBLISH
X-ORIGINAL-URL:https://scubadreamstravel.com
X-WR-CALDESC:Events for Scuba Dreams
REFRESH-INTERVAL;VALUE=DURATION:PT1H
X-Robots-Tag:noindex
X-PUBLISHED-TTL:PT1H
BEGIN:VTIMEZONE
TZID:America/New_York
BEGIN:DAYLIGHT
TZOFFSETFROM:-0500
TZOFFSETTO:-0400
TZNAME:EDT
DTSTART:20250309T070000
END:DAYLIGHT
BEGIN:STANDARD
TZOFFSETFROM:-0400
TZOFFSETTO:-0500
TZNAME:EST
DTSTART:20251102T060000
END:STANDARD
END:VTIMEZONE
BEGIN:VEVENT
DTSTART;TZID=America/New_York:20251004T130000
DTEND;TZID=America/New_York:20251005T130000
DTSTAMP:20260423T072619
CREATED:20250529T124345Z
LAST-MODIFIED:20250529T124346Z
UID:10000653-1759582800-1759669200@scubadreamstravel.com
SUMMARY:Lake Jocassee Weekend
DESCRIPTION:On each Lake Jocassee weekends we offer Open Water Check out dives\, fun dives from the boat\, continuing scuba education and scuba specialties. A typical weekend consists of 2 charters\, the first one Saturday morning\, Saturday afternoon and Sunday morning. Each charter is 2 dives from our custom build dive boats on beautiful lake Jocassee\, including tanks and weights. Everyone diver has to pay a $5 state park fee per day on site.
URL:https://scubadreamstravel.com/event/lake-jocassee-weekend-17/
LOCATION:Jocassee Dive Shop\, 710 Dive Buddy Lane\, Salem\, South Carolina\, 29676\, United States
CATEGORIES:Local Event,Training & Certification Courses
ATTACH;FMTTYPE=image/jpeg:https://scubadreamstravel.com/wp-content/uploads/2025/05/boatpic.jpg
END:VEVENT
BEGIN:VEVENT
DTSTART;TZID=America/New_York:20251018T130000
DTEND;TZID=America/New_York:20251019T130000
DTSTAMP:20260423T072619
CREATED:20250529T124414Z
LAST-MODIFIED:20250529T124415Z
UID:10000654-1760792400-1760878800@scubadreamstravel.com
SUMMARY:Lake Jocassee Weekend
DESCRIPTION:On each Lake Jocassee weekends we offer Open Water Check out dives\, fun dives from the boat\, continuing scuba education and scuba specialties. A typical weekend consists of 2 charters\, the first one Saturday morning\, Saturday afternoon and Sunday morning. Each charter is 2 dives from our custom build dive boats on beautiful lake Jocassee\, including tanks and weights. Everyone diver has to pay a $5 state park fee per day on site.
URL:https://scubadreamstravel.com/event/lake-jocassee-weekend-18/
LOCATION:Jocassee Dive Shop\, 710 Dive Buddy Lane\, Salem\, South Carolina\, 29676\, United States
CATEGORIES:Local Event,Training & Certification Courses
ATTACH;FMTTYPE=image/jpeg:https://scubadreamstravel.com/wp-content/uploads/2025/05/boatpic.jpg
END:VEVENT
BEGIN:VEVENT
DTSTART;TZID=America/New_York:20251019T123000
DTEND;TZID=America/New_York:20251019T183000
DTSTAMP:20260423T072619
CREATED:20240709T125239Z
LAST-MODIFIED:20251007T163507Z
UID:10000614-1760877000-1760898600@scubadreamstravel.com
SUMMARY:Pumpkin Carving and Costume Contest
DESCRIPTION:End of our Lake Jocassee season pumpkin carving party. Under water pumpkin carving\, costume contest\, with amazing prizes!
URL:https://scubadreamstravel.com/event/pumpkin-carving-and-costume-contest/
LOCATION:Devils Fork State Park\, Lake Jocassee\, 161 Holcombe Cir\, Salem\, South Carolina\, 29676\, United States
CATEGORIES:Local Event
ATTACH;FMTTYPE=image/png:https://scubadreamstravel.com/wp-content/uploads/2024/07/PK-2025.png
END:VEVENT
BEGIN:VEVENT
DTSTART;TZID=America/New_York:20251025T000000
DTEND;TZID=America/New_York:20251101T235959
DTSTAMP:20260423T072619
CREATED:20240112T183450Z
LAST-MODIFIED:20250313T175006Z
UID:10000588-1761350400-1762041599@scubadreamstravel.com
SUMMARY:Roatan Scuba Group Trip
DESCRIPTION:We have planned an amazing trip to Roatan\, Honduras. We’ve been here before and it was amazing!  Tripleaders will be Brian! WHERE ARE WE GOING? We are going to Roatan\, Honduras for a group scuba trip!  A full week of tropical diving\, in a beautiful beach resort with all inclusive meal plan\, sounds amazing\, doesn’t it?! Roatan is one of the best places to scuba dive in the Caribbean and only a 2.5 hour flight away from home.  It’s part of the Bay Islands off the coats of Honduras.  It’s in fact the largest of the three islands. We’ll discover this island with it’s authentic Caribbean and Latin American lifestyles and warm\, friendly islanders greeting us wherever we’ll go.  WHY ROATAN? Roatan is a divers paradise.  Fantastic dive sites minutes away from the dock\, clear and warm water\, amazing nature and beautiful beaches.  We’ll stay far away from the West End of the island\, where the reefs are unspoiled and we’ll basically have the whole coastline to ourselves.  THE DIVING The hotel has their own dive center\, which has a great reputation and offers valet diving\, which means that we won’t have to do anything but show up and dive.  They’ll carry and wash our gear and will make sure that we have the best time!  They are an elite PADI 5 Star Instructor Development and National Geographic Dive Center.  At Turquoise Bay Dive & Beach Resort you will enjoy the very individual and personal service that only a small dive resort can offer.  The friendly local staff takes pride in getting to know their guests and making them feel at home. The dive center is located in the hotel and has it’s own dock for their 3 boats.We’ll have six days of up to three dives daily and one boat night dive included. This should be plenty of diving for everyone! THE HOTEL Located on Roatan’s Northeast shore\, Turquoise Bay is the only dive resort in this lush and remote area of the island\, providing you with the opportunity to dive uncrowded\, pristine dive sites.  The resort is set on a hillside with spectacular ocean views and a protected bay which makes the water calm and perfect for swimming and kayaking. Beach lovers will enjoy our private\, tranquil\, 500 ft white-sand beach. We are booked on an all inclusive plan that includes three meals per day plus an afternoon snack and drinks\, including international alcoholic drinks.  The hotel is well know for great food and drinks. DATES AND FLIGHTS The trip will take place from October 25th to November 1st. Delta flys direct to Roatan from Atlanta every Saturday. The airport code for Roatan is RTB. Our flight itinerary Sat 25th of October DL1808\, Dep 11:05 AM\, Arr 12:15 PM Sat 1st of November DL 1807\, Dep 1:35 PM\, Arr 18:49PM TRIP SUMMARY Package includes: – 7 nights Hotel Accommodations – 3 meals daily plus afternoon snack – Unlimited national and international liquors with a wide variety of cocktails and beers – 3 boat dives daily – Welcome cocktail – Airport transfers – Free wireless internet access – Free use of non-motorized watersports equipment including kayaks and paddle boards – Access to private beach and use of resort facilities  PRICES Garden View Room Diver in double occupancy: $1799 Diver in single occupancy: $2099 Non-diver in double occupancy: $1399 Ocean View Room Diver in double occupancy: $1899 Diver in single occupancy: $2199 Non-diver in double occupancy: $1499  For more information or special requests\, please email info@scubadreamstravel.com
URL:https://scubadreamstravel.com/event/roatan-scuba-group-trip-2/
LOCATION:SPG
CATEGORIES:Dive Trips To Different Locations,International Event
ATTACH;FMTTYPE=image/jpeg:https://scubadreamstravel.com/wp-content/uploads/2023/01/IMG_6855.jpg
END:VEVENT
BEGIN:VEVENT
DTSTART;TZID=America/New_York:20251025T160000
DTEND;TZID=America/New_York:20251025T180000
DTSTAMP:20260423T072619
CREATED:20250930T110522Z
LAST-MODIFIED:20250930T110523Z
UID:10000664-1761408000-1761415200@scubadreamstravel.com
SUMMARY:Dive the Georgia Aquarium - SOLD OUT
DESCRIPTION:Journey with Gentle Giants is the only opportunity in the world where you are guaranteed to dive with whale sharks\, manta rays and thousands of other fish. Suit up to SCUBA dive in the pristine waters of the Ocean Voyager exhibit for a once in a lifetime experience.  Athens Scuba booked one of the weekend slots which are in high demand. Be quick\, otherwise it’ll be sold out before you know it! This trip includes the entrance fee to the Aquarium\, a T-Shirt and a video of your dive!
URL:https://scubadreamstravel.com/event/dive-the-georgia-aquarium-sold-out-6/
LOCATION:Cart
CATEGORIES:Local Event
ATTACH;FMTTYPE=image/jpeg:https://scubadreamstravel.com/wp-content/uploads/2022/11/journey-with-gentle-giants-dive-5-1440x454-1.jpeg
END:VEVENT
BEGIN:VEVENT
DTSTART;TZID=America/New_York:20251026T100000
DTEND;TZID=America/New_York:20251026T130000
DTSTAMP:20260423T072619
CREATED:20250930T110608Z
LAST-MODIFIED:20250930T110609Z
UID:10000665-1761472800-1761483600@scubadreamstravel.com
SUMMARY:Dive the Georgia Aquarium - SOLD OUT
DESCRIPTION:Journey with Gentle Giants is the only opportunity in the world where you are guaranteed to dive with whale sharks\, manta rays and thousands of other fish. Suit up to SCUBA dive in the pristine waters of the Ocean Voyager exhibit for a once in a lifetime experience.  Athens Scuba booked one of the weekend slots which are in high demand. Be quick\, otherwise it’ll be sold out before you know it! This trip includes the entrance fee to the Aquarium\, a T-Shirt and a video of your dive!
URL:https://scubadreamstravel.com/event/dive-the-georgia-aquarium-sold-out-7/
LOCATION:Cart
CATEGORIES:Local Event
ATTACH;FMTTYPE=image/jpeg:https://scubadreamstravel.com/wp-content/uploads/2022/11/journey-with-gentle-giants-dive-5-1440x454-1.jpeg
END:VEVENT
END:VCALENDAR