BEGIN:VCALENDAR
VERSION:2.0
PRODID:-//Scuba Dreams - ECPv6.10.2//NONSGML v1.0//EN
CALSCALE:GREGORIAN
METHOD:PUBLISH
X-ORIGINAL-URL:https://scubadreamstravel.com
X-WR-CALDESC:Events for Scuba Dreams
REFRESH-INTERVAL;VALUE=DURATION:PT1H
X-Robots-Tag:noindex
X-PUBLISHED-TTL:PT1H
BEGIN:VTIMEZONE
TZID:America/New_York
BEGIN:DAYLIGHT
TZOFFSETFROM:-0500
TZOFFSETTO:-0400
TZNAME:EDT
DTSTART:20250309T070000
END:DAYLIGHT
BEGIN:STANDARD
TZOFFSETFROM:-0400
TZOFFSETTO:-0500
TZNAME:EST
DTSTART:20251102T060000
END:STANDARD
END:VTIMEZONE
BEGIN:VEVENT
DTSTART;TZID=America/New_York:20250726T000000
DTEND;TZID=America/New_York:20250803T235959
DTSTAMP:20260423T102654
CREATED:20241031T104123Z
LAST-MODIFIED:20250720T003927Z
UID:10000616-1753488000-1754265599@scubadreamstravel.com
SUMMARY:Cozumel 8-Night OR 4-Night Scuba Group Trip SOLD OUT
DESCRIPTION:We have planned an amazing trip to Cozumel\, Mexico with multiple date options!  This is such a great trip as Cozumel is easy to get to and we’ll do amazing diving and stay at an excellent resort. WHERE ARE WE GOING? We are going to Cozumel for a group scuba trip! Seven days of diving\, enjoying the beach and the amenities of the beautiful Iberostar hotel\, and exploring Cozumel. If you don’t have the time to do the full trip\, or you are using this trip to do your Open Water Diver check out dives\, you can choose to book the 4 night option from either July 26th to 30th or July 30th to August 3rd. A LOT OF OPTIONS FOR THIS TRIP! Cozumel is widely regarded as one of the best Caribbean dive destinations and rightfully so! The island of Cozumel is located just off the east coast of Mexico’s Yucatan Peninsula and is directly across the water from Playa Del Carmen. Located on the Mesoamerican Barrier Reef (the second-largest coral reef system in the world)\, Cozumel is an incredible spot for turquoise Caribbean waters\, white sand beaches\, and world-class diving and snorkeling.  WHY COZUMEL? We chose to spend time on Cozumel\, because it has everything a diver could wish for. Beautiful reefs\, lots of fish and variety of underwater life\, drift diving\, beautiful beaches and fantastic resorts. The island also has a lot to offer besides diving\, Cozumel town is fun to explore\, a scooter ride to the east side of the island is a lot of fun and there are some of the oldest known Mayan ruins that can be visited. THE DIVING All dives will be guided by experienced dive guides of the well known and great dive operation of Dressel Divers Cozumel. Dressel has many dive locations around the Caribbean but only send their most experience staff to their prime dive shop in the Iberostar hotel. The dive center is located in the hotel and has it’s own jetty for their 4 boats.Cozumel is almost entirely surrounded by the Mesoamerican Reef\, which is why the island is considered one of the best dive areas in the world. The island featurs 40 different dive sites that have depths ranging from 10-100 feet and are teeming with tropical fish\, colorful reefs and are several marine species. We’ll have 6 days of double tank dives and a night dive included (for the 8 night option – the 4 night option includes 3 days of double tank dives). The dive sites are very close to the hotel\, so most of the days we’ll stop at the hotel between dives. THE HOTEL The Iberostar hotel is not only regarded as one of the best (or maybe THE BEST…) hotel of Cozumel\, it’s also the most southern hotel on the island\, which is the main reason we decided to stay here.  The best and least crowded dive sites of the island are in front or just south of the hotel. Most other dive shops need to have long boat rides to sites that we can reach in a few minutes. The hotel itself is beautifully arranged with the surrounding nature. The fully equipped bungalow-style suites offer a family-friendly atmosphere\, from which you can easily access the pools\, spa or the extensive beach. We are booked on an all inclusive plan that includes all meals and drinks\, including alcohol. The hotel is well know for it’s great kitchen and also offers themed restaurants. DATES AND FLIGHTS The trip will take place from July 26th to August 3rd. There are options for an 8 night stay or 4 night stays. There will be direct flights with Delta from Atlanta to Cozumel available for this trip and also many options with a one-stop layover. All transfers from Cozumel airport to the hotel are included in the travel price. TRIP SUMMARY 8 night package includes:   – 8 nights’ accommodations  – All-inclusive meals and drinks (alcohol included)  – Free Roundtrip airport transfers from Cozumel airport  – 6 days of 2-tank boat diving PLUS one night dive  – Free Nitrox 4 night package includes:  – 4 nights’ accommodations  – All-inclusive meals and drinks (alcohol included)  – Free Roundtrip airport transfers from Cozumel airport  – 3 days of 2-tank boat diving  – Free Nitrox PRICES for 8 night stay Diver in double occupancy: $2099 Diver in single occupancy: $2799 Non-diver in double occupancy: $1399  PRICES for 4 night stay Diver in double occupancy: $1299 Diver in single occupancy: $1799 Non-diver in double occupancy: $999  For more information or special requests\, please email info@scubadreamstravel.com
URL:https://scubadreamstravel.com/event/cozumel-8-night-or-4-night-scuba-group-trip/
LOCATION:Iberostar Cozumel\, Carretera Costera Sur Km 17782\, Cozumel\, 77600\, Mexico
CATEGORIES:International Event
ATTACH;FMTTYPE=image/jpeg:https://scubadreamstravel.com/wp-content/uploads/2023/01/Iberostar-Pool.jpeg
END:VEVENT
BEGIN:VEVENT
DTSTART;TZID=America/New_York:20250809T130000
DTEND;TZID=America/New_York:20250810T130000
DTSTAMP:20260423T102654
CREATED:20250529T124228Z
LAST-MODIFIED:20250529T124229Z
UID:10000650-1754744400-1754830800@scubadreamstravel.com
SUMMARY:Lake Jocassee Weekend
DESCRIPTION:On each Lake Jocassee weekends we offer Open Water Check out dives\, fun dives from the boat\, continuing scuba education and scuba specialties. A typical weekend consists of 2 charters\, the first one Saturday morning\, Saturday afternoon and Sunday morning. Each charter is 2 dives from our custom build dive boats on beautiful lake Jocassee\, including tanks and weights. Everyone diver has to pay a $5 state park fee per day on site.
URL:https://scubadreamstravel.com/event/lake-jocassee-weekend-14/
LOCATION:Jocassee Dive Shop\, 710 Dive Buddy Lane\, Salem\, South Carolina\, 29676\, United States
CATEGORIES:Local Event,Training & Certification Courses
ATTACH;FMTTYPE=image/jpeg:https://scubadreamstravel.com/wp-content/uploads/2025/05/boatpic.jpg
END:VEVENT
END:VCALENDAR