BEGIN:VCALENDAR
VERSION:2.0
PRODID:-//Scuba Dreams - ECPv6.10.2//NONSGML v1.0//EN
CALSCALE:GREGORIAN
METHOD:PUBLISH
X-ORIGINAL-URL:https://scubadreamstravel.com
X-WR-CALDESC:Events for Scuba Dreams
REFRESH-INTERVAL;VALUE=DURATION:PT1H
X-Robots-Tag:noindex
X-PUBLISHED-TTL:PT1H
BEGIN:VTIMEZONE
TZID:America/New_York
BEGIN:DAYLIGHT
TZOFFSETFROM:-0500
TZOFFSETTO:-0400
TZNAME:EDT
DTSTART:20270314T070000
END:DAYLIGHT
BEGIN:STANDARD
TZOFFSETFROM:-0400
TZOFFSETTO:-0500
TZNAME:EST
DTSTART:20271107T060000
END:STANDARD
END:VTIMEZONE
BEGIN:VEVENT
DTSTART;TZID=America/New_York:20271016T080000
DTEND;TZID=America/New_York:20271023T170000
DTSTAMP:20260420T052348
CREATED:20260108T184452Z
LAST-MODIFIED:20260327T192338Z
UID:10000678-1823673600-1824310800@scubadreamstravel.com
SUMMARY:Saba Group Trip
DESCRIPTION:Book HereWe have planned an unforgettable trip to the Dutch Caribbean island\, Saba. The Unspoiled Queen of the Caribbean! WHERE ARE WE GOING? The island of Saba is often described as having a fairytale quality – in the sense of being in a place where time has all but remained unchanged.  You will find no franchised resorts\, casinos\, or shopping malls.  You will however find natural beauty\, a warm culture filled with friendly people\, and a sense of tranquility and charm.  Saba is also one of the safest islands in the World.  Feel free to take a walk any time of day or night\, while many locals even leave their doors unlocked. WHY Saba? Saba is a unique island. The best way to describe this unique island with fewer than 2\,000 residents is to list the have-nots: Saba has no crime\, no high rises\, no traffic lights\, no crowds\, no fast-food restaurants\, no casinos\, no cruise ships. Oh\, and we almost forgot\, no beaches. All diving is from boats. THE DIVING SCUBA diving is the top attraction of Saba\, and it surely offers one of the top dive spots in the Caribbean\, with unique structures to go along with a healthy reef and an amazing underwater topography. The Saba Marine Park protects 30 dive sites around the island of Saba. We will see sharks and turtles every day/every dive! The five Pinnacle dive sites around Saba are one of a kind.  We’ll have five days of two-tank dives and an additional afternoon dive\, all from the brand new\, amazing dive boats that Sea-Saba offers. Saba Marine Park For a five-square-mile Island\, there sure are a lot of Dive sites!Established in 1987\, the Saba National Marine Park together with the Saba Conservation Foundation has maintained moorings and preserved marine life within Saba’s coastal waters.  You’ll have a choice of 30+ varied dive-sites\, ranging from easy dive sites for the novices amongst you\, and more challenging dives for the more advanced.  All of our dive sites are only accessible by boat\, but most are only a short boat ride from Fort Bay Harbor with the added bonus of spectacular island views! THE HOTEL Juliana’s Hotel has the perfect location\, nestled in the lush hillside in the village of Windwardside\, where the days are warm\, the nights are refreshingly cool\, the birds are chirping\, and a gentle breeze flows through your room\, suite or cottage!  This place is super relaxed and laid-back!   Juliana’s Hotel is tucked in the hillside of the village of Windwardside\, where you are a short walk to some of Saba’s finest restaurants\, gift shops\, museums\, and more. You are also within walking distance of the Mount Scenery stairs\, which will lead you to the highest point within the Dutch Kingdom at approximately (3000 feet). On clear days\, you may be able to see the neighboring islands of St. Maarten\, St. Barths\, and St. Eustatius from this breathtaking vantage point.  Bring your hiking shoes!!! We almost forgot to mention that the Bar in the hotel is awesome\, it’s the “Tipsy Goat Bar”\, where Ben and many others have enjoyed the breathtaking views while having a cold one or a cocktail after diving. We’ll have breakfast included in our package.  There are a lot of dining options around the hotel in the cute village of Windwardside.  Each diver will have the choice between three room categories\, Garden View Room\, the Ocean View Room\, and the Captain’s Suites. THE FLIGHT AND THE AIRPORT The Flights on this trip alone are worth the travel. You’ll take off and land at not only one but two of the most famous airports in the world. At Princess Juliana International Airport\, take-offs and landings are basically a few feet above the beach. Most people have seen clips and photos of it… Saba’s Juancho E. Yrausquin Airport has the shortest commercial runway in the world\, and it has a cliff on each end. Take-offs and landings are exhilarating with an awesome view. DATES AND FLIGHTS The trip will take place from October 16th to 23rd\, 2027.  Delta flies direct from Atlanta to St. Maarten daily. After arriving\, we’ll have to transfer over to Saba on either ferry or “puddle-jumper” plane. The flight schedule for 2027 is not posted yet. We will update the flight itinerary asap. TRIP SUMMARY Package includes: – 7 nights’ Hotel Accommodations in the booked room category – daily breakfast – Nitrox 32% for every nitrox certified diver – Airport transfers – Daily transfers to and from the dive boat Package doesn’t include: – Saba Marine Park fees ($4 per dive) and Nature fees ($1 per person\, per night)  PRICES Diver in double occupancy in Garden View room: $2\,050 Diver in single occupancy in Garden View room: $2\,700 Non-diver in double occupancy Garden View room: $1\,200  Diver in double occupancy in Ocean View Room: $2\,150 Diver in single occupancy in Ocean View Room: $ 3\,000 Non-diver in double occupancy Ocean View Room: $1\,300  Diver in double occupancy in Captain’s Suite Room: $2\,300 Diver in single occupancy in Captain’s Suite Room: at request Non-diver in double occupancy Captain’s Suite Room: $1400 Per our terms and conditions\, payments made after the due date are NON-REFUNDABLE. All deposits required at booking are NON-REFUNDABLE. Payment Due Dates:Deposit- Due when booking\, approximately 25%Interim Payment- July 1stFinal Payment- August 15th Review our full terms and conditions here: https://scubadreamstravel.com/terms-conditions/ For more information or special requests\, please email info@scubadreamstravel.com Book Here
URL:https://scubadreamstravel.com/event/saba/
CATEGORIES:International Event
ATTACH;FMTTYPE=image/jpeg:https://scubadreamstravel.com/wp-content/uploads/2026/01/saba-mountain.jpg
END:VEVENT
BEGIN:VEVENT
DTSTART;TZID=America/New_York:20271120T080000
DTEND;TZID=America/New_York:20271127T170000
DTSTAMP:20260420T052348
CREATED:20260108T184355Z
LAST-MODIFIED:20260327T192440Z
UID:10000677-1826697600-1827334800@scubadreamstravel.com
SUMMARY:La Paz Group Trip
DESCRIPTION:We have planned a spectacular trip to La Paz\, in Baja California\, Mexico. Book HereWHERE ARE WE GOING? La Paz is the capital of Baja California Sur\, a Mexican state on the Baja California Peninsula. It’s known for its seafront Malecón promenade with beaches\, parks\, and art by Mexican and international artists. Many bars and restaurants overlook the water.  Day time aerial view of Playa Balandra\, an iconic beach in La Paz\, Baja California Sur\, Mexico.WHY La Paz? La Paz is a buzzing town in Baja California and the main gateway to the Sea of Cortez\, which was named “The Aquarium of the World” by none other than Jacques Cousteau. It is a breathtaking part of the Pacific\, situated between mainland Mexico and the Baja California peninsula. The sea stretches for nearly 1100 miles from Cabo San Lucas in the south almost to the US border in the north. It is almost as long as the west coast of the US but the average width of the sea is only 50-75 miles. THE DIVING Scuba diving in La Paz is incredible due to the Sea of Cortez rich biodiversity\, offering interactions with playful sea lions at Los Islotes\, majestic whale sharks\, even shipwrecks\, suitable for all levels with clear\, warm waters and UNESCO-protected sites like Espiritu Santo Island. It’s famous for unique encounters\, from mobula rays to hammerhead sharks\, whales and so on. You never know what you going to see. THE HOTEL We will stay at the Hotel Catedral La Paz\, it is part of the historic center of the city\, surrounded by major attractions next to “Our Cathedral Lady of La Paz”. The lively “La Paz Malecon” promenade is just a few minutes’ walk away. There you will find numerous reasonably priced restaurants\, from fish restaurants to steakhouses and taco snack bars. In the evening\, the promenade offers a lively nightlife with numerous bars and nightclubs. The public city beach of La Paz is just under 500 metres away and the Buceo Carey diving centre is around two kilometres away\, with the centre offering a free shuttle service. The hotel has a modern\, minimalist design and 78 rooms. On the roof terrace there is an infinity pool with sun loungers\, pool bar and wonderful views of the city. On the terrace\, which is furnished with upholstered furniture\, tables and chairs\, you can also enjoy the sunset with a cool drink and reflect on the exciting dives. The dive shop is a few minute walk from the hotel. DATES AND FLIGHTS The trip will take place from November 16th to 23rd\, 2027. Delta flies direct from Atlanta to San Jose Del Cabo daily. Alternatively\, you can fly directly into La Paz from a number of airports in the US and Mexico. The flight schedule for 2027 is not posted yet. We will update the flight itinerary asap. TRIP SUMMARY Package includes:  • 7 nights’ accommodations  • Full breakfasts daily  • 5 days of 3 tank dives  • Lunches and drinks on the boat  • National park permit fees  • Round-trip La Paz airport transfers Optional Add-Ons:  • Night Dive (5 pax min.): $100 per diver  • Mobula Rays Night Dive: $140 per diver (highly recommended!)  • Swim with Whale Sharks: $150 per snorkeler  • Nitrox fills 5 days of 3 tank dives\, special of $180 for the week\, plus 16% tax Package doesn’t include:   • International flights  • Transfers from SJD airport if you decide to fly into that airport PRICES Diver in double occupancy in standard room (king or twin): $3\,000 Diver in single occupancy in standard room (king or twin): $3\,800 Non-diver in double occupancy in standard room (king or twin): $1\,850 Per our terms and conditions\, payments made after the due date are NON-REFUNDABLE. All deposits required at booking are NON-REFUNDABLE. Payment Due Dates:Deposit- Due when booking\, approximately 25%Final Payment- September 1st  Review our full terms and conditions here: https://scubadreamstravel.com/terms-conditions/ For more information or special requests\, please email info@scubadreamstravel.com Book Here
URL:https://scubadreamstravel.com/event/la-paz/
CATEGORIES:International Event
ATTACH;FMTTYPE=image/jpeg:https://scubadreamstravel.com/wp-content/uploads/2026/01/la-paz-playa-balandra.jpg
END:VEVENT
END:VCALENDAR