BEGIN:VCALENDAR
VERSION:2.0
PRODID:-//Scuba Dreams - ECPv6.10.2//NONSGML v1.0//EN
CALSCALE:GREGORIAN
METHOD:PUBLISH
X-WR-CALNAME:Scuba Dreams
X-ORIGINAL-URL:https://scubadreamstravel.com
X-WR-CALDESC:Events for Scuba Dreams
REFRESH-INTERVAL;VALUE=DURATION:PT1H
X-Robots-Tag:noindex
X-PUBLISHED-TTL:PT1H
BEGIN:VTIMEZONE
TZID:America/New_York
BEGIN:DAYLIGHT
TZOFFSETFROM:-0500
TZOFFSETTO:-0400
TZNAME:EDT
DTSTART:20220313T070000
END:DAYLIGHT
BEGIN:STANDARD
TZOFFSETFROM:-0400
TZOFFSETTO:-0500
TZNAME:EST
DTSTART:20221106T060000
END:STANDARD
END:VTIMEZONE
BEGIN:VEVENT
DTSTART;TZID=America/New_York:20221028T173000
DTEND;TZID=America/New_York:20221028T193000
DTSTAMP:20260420T183416
CREATED:20220805T140044Z
LAST-MODIFIED:20250313T175201Z
UID:10000511-1666978200-1666985400@scubadreamstravel.com
SUMMARY:Enriched Air Nitrox class
DESCRIPTION:Enriched Air Nitrox (EANX) contains less nitrogen than regular air. Breathing less nitrogen means you can enjoy longer dives and shorter surface intervals. No wonder Enriched Air Diver is the most popular PADI® specialty. \nhttps://scubadreamstravel.com/enriched-air-diver/
URL:https://scubadreamstravel.com/event/enriched-air-nitrox-class-2/
LOCATION:Georgia Aquatic Center\, 1545 S Bishop Farms Pkwy\, Watkinsville\, Georgia\, 30677\, United States
CATEGORIES:Local Event
ATTACH;FMTTYPE=image/jpeg:https://scubadreamstravel.com/wp-content/uploads/2022/08/nitrox_diving-1024x683-1.jpeg
END:VEVENT
BEGIN:VEVENT
DTSTART;TZID=America/New_York:20221023T130000
DTEND;TZID=America/New_York:20221023T180000
DTSTAMP:20260420T183416
CREATED:20220805T182131Z
LAST-MODIFIED:20250313T175201Z
UID:10000513-1666530000-1666548000@scubadreamstravel.com
SUMMARY:Underwater Scooter / Diver Propulsion Vehicle (DPV) class
DESCRIPTION:If scuba diving is like taking a scenic stroll around a park\, a Diver Propulsion Vehicle (DPV) is like exploring a neighborhood on an (electric) bicycle.  DPVs\, also called underwater scooters\, allow you to see more\, conserve air and get from one place to another faster – with a huge smile on your face. For this exciting new class we can take a maximum of two students at the time. The class includes PADI eLearning\, two dives from one of the boats at Lake Jocassee and the rental of the Scooter.
URL:https://scubadreamstravel.com/event/underwater-scooter-diver-propulsion-vehicle-dpv-class-2/
LOCATION:Devils Fork State Park\, Lake Jocassee\, 161 Holcombe Cir\, Salem\, South Carolina\, 29676\, United States
CATEGORIES:Local Event
ATTACH;FMTTYPE=image/jpeg:https://scubadreamstravel.com/wp-content/uploads/2022/08/DPV2-1tnSpn27.jpeg
END:VEVENT
BEGIN:VEVENT
DTSTART;TZID=America/New_York:20221023T080000
DTEND;TZID=America/New_York:20221023T130000
DTSTAMP:20260420T183416
CREATED:20220805T182035Z
LAST-MODIFIED:20250313T175201Z
UID:10000512-1666512000-1666530000@scubadreamstravel.com
SUMMARY:Underwater Scooter / Diver Propulsion Vehicle (DPV) class
DESCRIPTION:If scuba diving is like taking a scenic stroll around a park\, a Diver Propulsion Vehicle (DPV) is like exploring a neighborhood on an (electric) bicycle.  DPVs\, also called underwater scooters\, allow you to see more\, conserve air and get from one place to another faster – with a huge smile on your face. For this exciting new class we can take a maximum of two students at the time. The class includes PADI eLearning\, two dives from one of the boats at Lake Jocassee and the rental of the Scooter.
URL:https://scubadreamstravel.com/event/underwater-scooter-diver-propulsion-vehicle-dpv-class/
LOCATION:Devils Fork State Park\, Lake Jocassee\, 161 Holcombe Cir\, Salem\, South Carolina\, 29676\, United States
CATEGORIES:Local Event
ATTACH;FMTTYPE=image/jpeg:https://scubadreamstravel.com/wp-content/uploads/2022/08/DPV2-1tnSpn27.jpeg
END:VEVENT
BEGIN:VEVENT
DTSTART;TZID=America/New_York:20221023T080000
DTEND;TZID=America/New_York:20221023T130000
DTSTAMP:20260420T183416
CREATED:20220516T190722Z
LAST-MODIFIED:20250313T175201Z
UID:10000504-1666512000-1666530000@scubadreamstravel.com
SUMMARY:PADI Open Water Diver course
DESCRIPTION:PADI Open Water check out dives 3-4
URL:https://scubadreamstravel.com/event/padi-open-water-diver-course-21/
LOCATION:Devils Fork State Park\, Lake Jocassee\, 161 Holcombe Cir\, Salem\, South Carolina\, 29676\, United States
CATEGORIES:Local Event,Training & Certification Courses
ATTACH;FMTTYPE=image/jpeg:https://scubadreamstravel.com/wp-content/uploads/2021/07/79191.jpg
END:VEVENT
BEGIN:VEVENT
DTSTART;TZID=America/New_York:20221022T130000
DTEND;TZID=America/New_York:20221022T193000
DTSTAMP:20260420T183416
CREATED:20220810T150225Z
LAST-MODIFIED:20250313T175202Z
UID:10000515-1666443600-1666467000@scubadreamstravel.com
SUMMARY:Pumpkin Carving and Low Country Boil
DESCRIPTION:End of our Lake Jocassee season pumpkin carving party. Under water pumpkin carving\, costume contest\, low country boil with amazing prizes!
URL:https://scubadreamstravel.com/event/pumpkin-carving-and-low-country-boil/
LOCATION:Devils Fork State Park\, Lake Jocassee\, 161 Holcombe Cir\, Salem\, South Carolina\, 29676\, United States
CATEGORIES:Local Event
ATTACH;FMTTYPE=image/jpeg:https://scubadreamstravel.com/wp-content/uploads/2022/08/Pumpkin-carving.jpg
END:VEVENT
BEGIN:VEVENT
DTSTART;TZID=America/New_York:20221022T130000
DTEND;TZID=America/New_York:20221022T180000
DTSTAMP:20260420T183416
CREATED:20220516T190740Z
LAST-MODIFIED:20250313T175202Z
UID:10000505-1666443600-1666461600@scubadreamstravel.com
SUMMARY:PADI Open Water Diver Course
DESCRIPTION:PADI Open Water Diver check out dives 1 and 2
URL:https://scubadreamstravel.com/event/padi-open-water-diver-course-22/
LOCATION:Devils Fork State Park\, Lake Jocassee\, 161 Holcombe Cir\, Salem\, South Carolina\, 29676\, United States
CATEGORIES:Local Event,Training & Certification Courses
ATTACH;FMTTYPE=image/jpeg:https://scubadreamstravel.com/wp-content/uploads/2021/07/79189.jpg
END:VEVENT
BEGIN:VEVENT
DTSTART;TZID=America/New_York:20221009T080000
DTEND;TZID=America/New_York:20221009T130000
DTSTAMP:20260420T183416
CREATED:20220516T190531Z
LAST-MODIFIED:20250313T175203Z
UID:10000502-1665302400-1665320400@scubadreamstravel.com
SUMMARY:PADI Open Water Diver course
DESCRIPTION:PADI Open Water check out dives 3-4
URL:https://scubadreamstravel.com/event/padi-open-water-diver-course-19/
LOCATION:Devils Fork State Park\, Lake Jocassee\, 161 Holcombe Cir\, Salem\, South Carolina\, 29676\, United States
CATEGORIES:Local Event,Training & Certification Courses
ATTACH;FMTTYPE=image/jpeg:https://scubadreamstravel.com/wp-content/uploads/2021/07/79191.jpg
END:VEVENT
BEGIN:VEVENT
DTSTART;TZID=America/New_York:20221008T130000
DTEND;TZID=America/New_York:20221008T180000
DTSTAMP:20260420T183416
CREATED:20220516T190630Z
LAST-MODIFIED:20250313T175203Z
UID:10000503-1665234000-1665252000@scubadreamstravel.com
SUMMARY:PADI Open Water Diver Course
DESCRIPTION:PADI Open Water Diver check out dives 1 and 2
URL:https://scubadreamstravel.com/event/padi-open-water-diver-course-20/
LOCATION:Devils Fork State Park\, Lake Jocassee\, 161 Holcombe Cir\, Salem\, South Carolina\, 29676\, United States
CATEGORIES:Local Event,Training & Certification Courses
ATTACH;FMTTYPE=image/jpeg:https://scubadreamstravel.com/wp-content/uploads/2021/07/79189.jpg
END:VEVENT
BEGIN:VEVENT
DTSTART;TZID=America/New_York:20220925T080000
DTEND;TZID=America/New_York:20220925T130000
DTSTAMP:20260420T183416
CREATED:20220516T190438Z
LAST-MODIFIED:20250313T175203Z
UID:10000500-1664092800-1664110800@scubadreamstravel.com
SUMMARY:PADI Open Water Diver course
DESCRIPTION:PADI Open Water check out dives 3-4
URL:https://scubadreamstravel.com/event/padi-open-water-diver-course-17/
LOCATION:Devils Fork State Park\, Lake Jocassee\, 161 Holcombe Cir\, Salem\, South Carolina\, 29676\, United States
CATEGORIES:Local Event,Training & Certification Courses
ATTACH;FMTTYPE=image/jpeg:https://scubadreamstravel.com/wp-content/uploads/2021/07/79191.jpg
END:VEVENT
BEGIN:VEVENT
DTSTART;TZID=America/New_York:20220924T130000
DTEND;TZID=America/New_York:20220924T180000
DTSTAMP:20260420T183416
CREATED:20220516T190501Z
LAST-MODIFIED:20250313T175204Z
UID:10000501-1664024400-1664042400@scubadreamstravel.com
SUMMARY:PADI Open Water Diver Course
DESCRIPTION:PADI Open Water Diver check out dives 1 and 2
URL:https://scubadreamstravel.com/event/padi-open-water-diver-course-18/
LOCATION:Devils Fork State Park\, Lake Jocassee\, 161 Holcombe Cir\, Salem\, South Carolina\, 29676\, United States
CATEGORIES:Local Event,Training & Certification Courses
ATTACH;FMTTYPE=image/jpeg:https://scubadreamstravel.com/wp-content/uploads/2021/07/79189.jpg
END:VEVENT
BEGIN:VEVENT
DTSTART;TZID=America/New_York:20220911T080000
DTEND;TZID=America/New_York:20220911T130000
DTSTAMP:20260420T183416
CREATED:20220516T190408Z
LAST-MODIFIED:20250313T175204Z
UID:10000498-1662883200-1662901200@scubadreamstravel.com
SUMMARY:PADI Open Water Diver course
DESCRIPTION:PADI Open Water check out dives 3-4
URL:https://scubadreamstravel.com/event/padi-open-water-diver-course-16/
LOCATION:Devils Fork State Park\, Lake Jocassee\, 161 Holcombe Cir\, Salem\, South Carolina\, 29676\, United States
CATEGORIES:Local Event,Training & Certification Courses
ATTACH;FMTTYPE=image/jpeg:https://scubadreamstravel.com/wp-content/uploads/2021/07/79191.jpg
END:VEVENT
BEGIN:VEVENT
DTSTART;TZID=America/New_York:20220910T130000
DTEND;TZID=America/New_York:20220910T180000
DTSTAMP:20260420T183416
CREATED:20220516T190348Z
LAST-MODIFIED:20250313T175204Z
UID:10000499-1662814800-1662832800@scubadreamstravel.com
SUMMARY:PADI Open Water Diver Course
DESCRIPTION:PADI Open Water Diver check out dives 1 and 2
URL:https://scubadreamstravel.com/event/padi-open-water-diver-course-15/
LOCATION:Devils Fork State Park\, Lake Jocassee\, 161 Holcombe Cir\, Salem\, South Carolina\, 29676\, United States
CATEGORIES:Local Event,Training & Certification Courses
ATTACH;FMTTYPE=image/jpeg:https://scubadreamstravel.com/wp-content/uploads/2021/07/79189.jpg
END:VEVENT
BEGIN:VEVENT
DTSTART;TZID=America/New_York:20220902T173000
DTEND;TZID=America/New_York:20220902T193000
DTSTAMP:20260420T183416
CREATED:20220805T135910Z
LAST-MODIFIED:20250313T175205Z
UID:10000509-1662139800-1662147000@scubadreamstravel.com
SUMMARY:Enriched Air Nitrox class
DESCRIPTION:Enriched Air Nitrox (EANX) contains less nitrogen than regular air. Breathing less nitrogen means you can enjoy longer dives and shorter surface intervals. No wonder Enriched Air Diver is the most popular PADI® specialty. \nhttps://scubadreamstravel.com/enriched-air-diver/
URL:https://scubadreamstravel.com/event/enriched-air-nitrox-class/
LOCATION:Georgia Aquatic Center\, 1545 S Bishop Farms Pkwy\, Watkinsville\, Georgia\, 30677\, United States
CATEGORIES:Local Event
ATTACH;FMTTYPE=image/jpeg:https://scubadreamstravel.com/wp-content/uploads/2022/08/nitrox_diving-1024x683-1.jpeg
END:VEVENT
BEGIN:VEVENT
DTSTART;TZID=America/New_York:20220829T173000
DTEND;TZID=America/New_York:20220829T193000
DTSTAMP:20260420T183416
CREATED:20220810T130532Z
LAST-MODIFIED:20250313T175205Z
UID:10000514-1661794200-1661801400@scubadreamstravel.com
SUMMARY:Tec Dive Seminar / Workshop
DESCRIPTION:The transition from recreational scuba diving to technical diving is not easy and many don’t know where to start with this. Athens Scuba is going to offer PADI Tec 40\, 45 and 50 in the future and we are offering a tec dive seminar / workshop to give interested divers the opportunity to learn more about tec diving in general\, what to expect and how to get started. This can be interesting not only for the divers that want to start tec diving very soon but also learning about other aspects\, that recreational scuba diving classes don’t include.  Throughout the seminar we’ll provide cold drinks and pizza.
URL:https://scubadreamstravel.com/event/tec-dive-seminar-workshop/
LOCATION:Georgia Aquatic Center\, 1545 S Bishop Farms Pkwy\, Watkinsville\, Georgia\, 30677\, United States
CATEGORIES:Local Event
ATTACH;FMTTYPE=image/jpeg:https://scubadreamstravel.com/wp-content/uploads/2022/08/tec-40_0.jpeg
END:VEVENT
BEGIN:VEVENT
DTSTART;TZID=America/New_York:20220828T080000
DTEND;TZID=America/New_York:20220828T130000
DTSTAMP:20260420T183416
CREATED:20220516T190249Z
LAST-MODIFIED:20250313T175205Z
UID:10000497-1661673600-1661691600@scubadreamstravel.com
SUMMARY:PADI Open Water Diver course
DESCRIPTION:PADI Open Water check out dives 3-4
URL:https://scubadreamstravel.com/event/padi-open-water-diver-course-13/
LOCATION:Devils Fork State Park\, Lake Jocassee\, 161 Holcombe Cir\, Salem\, South Carolina\, 29676\, United States
CATEGORIES:Local Event,Training & Certification Courses
ATTACH;FMTTYPE=image/jpeg:https://scubadreamstravel.com/wp-content/uploads/2021/07/79191.jpg
END:VEVENT
BEGIN:VEVENT
DTSTART;TZID=America/New_York:20220827T130000
DTEND;TZID=America/New_York:20220827T180000
DTSTAMP:20260420T183416
CREATED:20220516T190308Z
LAST-MODIFIED:20250313T175205Z
UID:10000496-1661605200-1661623200@scubadreamstravel.com
SUMMARY:PADI Open Water Diver Course
DESCRIPTION:PADI Open Water Diver check out dives 1 and 2
URL:https://scubadreamstravel.com/event/padi-open-water-diver-course-14/
LOCATION:Devils Fork State Park\, Lake Jocassee\, 161 Holcombe Cir\, Salem\, South Carolina\, 29676\, United States
CATEGORIES:Local Event,Training & Certification Courses
ATTACH;FMTTYPE=image/jpeg:https://scubadreamstravel.com/wp-content/uploads/2021/07/79189.jpg
END:VEVENT
BEGIN:VEVENT
DTSTART;TZID=America/New_York:20220814T080000
DTEND;TZID=America/New_York:20220814T130000
DTSTAMP:20260420T183416
CREATED:20220516T190216Z
LAST-MODIFIED:20250313T175206Z
UID:10000495-1660464000-1660482000@scubadreamstravel.com
SUMMARY:PADI Open Water Diver course
DESCRIPTION:PADI Open Water check out dives 3-4
URL:https://scubadreamstravel.com/event/padi-open-water-diver-course-12/
LOCATION:Devils Fork State Park\, Lake Jocassee\, 161 Holcombe Cir\, Salem\, South Carolina\, 29676\, United States
CATEGORIES:Local Event,Training & Certification Courses
ATTACH;FMTTYPE=image/jpeg:https://scubadreamstravel.com/wp-content/uploads/2021/07/79191.jpg
END:VEVENT
BEGIN:VEVENT
DTSTART;TZID=America/New_York:20220813T130000
DTEND;TZID=America/New_York:20220813T180000
DTSTAMP:20260420T183416
CREATED:20220516T190158Z
LAST-MODIFIED:20250313T175206Z
UID:10000494-1660395600-1660413600@scubadreamstravel.com
SUMMARY:PADI Open Water Diver Course
DESCRIPTION:PADI Open Water Diver check out dives 1 and 2
URL:https://scubadreamstravel.com/event/padi-open-water-diver-course-11/
LOCATION:Devils Fork State Park\, Lake Jocassee\, 161 Holcombe Cir\, Salem\, South Carolina\, 29676\, United States
CATEGORIES:Local Event,Training & Certification Courses
ATTACH;FMTTYPE=image/jpeg:https://scubadreamstravel.com/wp-content/uploads/2021/07/79189.jpg
END:VEVENT
BEGIN:VEVENT
DTSTART;TZID=America/New_York:20220728T000000
DTEND;TZID=America/New_York:20220801T235959
DTSTAMP:20260420T183416
CREATED:20220622T145940Z
LAST-MODIFIED:20250313T175206Z
UID:10000506-1658966400-1659398399@scubadreamstravel.com
SUMMARY:West Palm Beach Dive Trip
DESCRIPTION:We have planned a great trip to West Palm Beach\, Florida from July  28th-August 1st.  This will be a fun and relaxed getaway that is great for newly certified divers and experienced divers alike! West Palm Beach offers awesome diving\, close to home.   We are planning to drive or fly down to West Palm Beach on Thursday July 28th\, dive Friday\, Saturday\, Sunday and drive/fly back on Monday August 1st. The trip includes accommodations in the Best Western Plus Palm Beach Gardens and diving with Nitrox. The hotel is conveniently located\, close to the dive boat and Blue Heron Bride\, dining and the beach. The hotel includes a daily breakfast. The hotel has different room options. We included the standard room. You have the choice between a one (King or Queen)\, or two bed (double) setup.  We will dive the Blue Heron Bridge\, which is one of our all time favorites\, on Friday morning. Friday afternoon we will do a double tank trip on the fabulous dive boat Narcosis\, these will be two rather shallow dives on the beautiful reefs around West Palm Beach. Saturday and Sunday we will do the morning double tank trips which typically include one wreck and one reef dive. These dives will be a bit deeper but still easy going\, as all diving in West Palm is done as drift dives. Travel from July. 28th to Aug. 1st\, 3 days of boat diving on Nitrox\, 1 shore dive at the Blue Heron Bridge Rental gear\, drive/flights\, meals (except of breakfast at the hotel)\, drinks and possible certifications are NOT included For information on single occupancy\, extra dives\, and other special requests\, please email ben@scubadreamstravel.com
URL:https://scubadreamstravel.com/event/west-palm-beach-dive-trip/
CATEGORIES:Advanced Dives,Dive Trips To Different Locations,Local Event
ATTACH;FMTTYPE=image/jpeg:https://scubadreamstravel.com/wp-content/uploads/2022/06/narcosis_boat_dolphins13.jpeg
END:VEVENT
BEGIN:VEVENT
DTSTART;TZID=America/New_York:20220724T080000
DTEND;TZID=America/New_York:20220724T130000
DTSTAMP:20260420T183416
CREATED:20220516T190058Z
LAST-MODIFIED:20250313T175206Z
UID:10000493-1658649600-1658667600@scubadreamstravel.com
SUMMARY:PADI Open Water Diver course
DESCRIPTION:PADI Open Water check out dives 3-4
URL:https://scubadreamstravel.com/event/padi-open-water-diver-course-10/
LOCATION:Devils Fork State Park\, Lake Jocassee\, 161 Holcombe Cir\, Salem\, South Carolina\, 29676\, United States
CATEGORIES:Local Event,Training & Certification Courses
ATTACH;FMTTYPE=image/jpeg:https://scubadreamstravel.com/wp-content/uploads/2021/07/79191.jpg
END:VEVENT
BEGIN:VEVENT
DTSTART;TZID=America/New_York:20220723T130000
DTEND;TZID=America/New_York:20220723T180000
DTSTAMP:20260420T183416
CREATED:20220516T190041Z
LAST-MODIFIED:20250313T175207Z
UID:10000492-1658581200-1658599200@scubadreamstravel.com
SUMMARY:PADI Open Water Diver Course
DESCRIPTION:PADI Open Water Diver check out dives 1 and 2
URL:https://scubadreamstravel.com/event/padi-open-water-diver-course-9/
LOCATION:Devils Fork State Park\, Lake Jocassee\, 161 Holcombe Cir\, Salem\, South Carolina\, 29676\, United States
CATEGORIES:Local Event,Training & Certification Courses
ATTACH;FMTTYPE=image/jpeg:https://scubadreamstravel.com/wp-content/uploads/2021/07/79189.jpg
END:VEVENT
BEGIN:VEVENT
DTSTART;TZID=America/New_York:20220710T080000
DTEND;TZID=America/New_York:20220710T130000
DTSTAMP:20260420T183416
CREATED:20220516T190001Z
LAST-MODIFIED:20250313T175207Z
UID:10000491-1657440000-1657458000@scubadreamstravel.com
SUMMARY:PADI Open Water Diver course
DESCRIPTION:PADI Open Water check out dives 3-4
URL:https://scubadreamstravel.com/event/padi-open-water-diver-course-8/
LOCATION:Devils Fork State Park\, Lake Jocassee\, 161 Holcombe Cir\, Salem\, South Carolina\, 29676\, United States
CATEGORIES:Local Event,Training & Certification Courses
ATTACH;FMTTYPE=image/jpeg:https://scubadreamstravel.com/wp-content/uploads/2021/07/79191.jpg
END:VEVENT
BEGIN:VEVENT
DTSTART;TZID=America/New_York:20220709T130000
DTEND;TZID=America/New_York:20220709T180000
DTSTAMP:20260420T183416
CREATED:20220516T185942Z
LAST-MODIFIED:20250313T175207Z
UID:10000490-1657371600-1657389600@scubadreamstravel.com
SUMMARY:PADI Open Water Diver Course
DESCRIPTION:PADI Open Water Diver check out dives 1 and 2
URL:https://scubadreamstravel.com/event/padi-open-water-diver-course-7/
LOCATION:Devils Fork State Park\, Lake Jocassee\, 161 Holcombe Cir\, Salem\, South Carolina\, 29676\, United States
CATEGORIES:Local Event,Training & Certification Courses
ATTACH;FMTTYPE=image/jpeg:https://scubadreamstravel.com/wp-content/uploads/2021/07/79189.jpg
END:VEVENT
BEGIN:VEVENT
DTSTART;TZID=America/New_York:20220708T160000
DTEND;TZID=America/New_York:20220708T193000
DTSTAMP:20260420T183416
CREATED:20220629T114634Z
LAST-MODIFIED:20250313T175207Z
UID:10000508-1657296000-1657308600@scubadreamstravel.com
SUMMARY:Grand Shop Opening
DESCRIPTION:Grand Shop Opening of our dive store at the Georgia Aquatic Center. Everyone is Welcome We’ll have a raffle\, special opening discounts\, a grill out and cold drinks.
URL:https://scubadreamstravel.com/event/grand-shop-opening/
LOCATION:Georgia Aquatic Center\, 1545 S Bishop Farms Pkwy\, Watkinsville\, Georgia\, 30677\, United States
CATEGORIES:Local Event
ATTACH;FMTTYPE=image/jpeg:https://scubadreamstravel.com/wp-content/uploads/2022/06/b16f604e-dff1-4c4c-9855-9875246db0d9.jpg
END:VEVENT
BEGIN:VEVENT
DTSTART;TZID=America/New_York:20220627T000000
DTEND;TZID=America/New_York:20220701T235959
DTSTAMP:20260420T183416
CREATED:20220328T162423Z
LAST-MODIFIED:20250313T175208Z
UID:10000489-1656288000-1656719999@scubadreamstravel.com
SUMMARY:Scuba Summer Camp
DESCRIPTION:We are organizing a SCUBA SUMMER CAMP in Watkinsville from June 27th to July 1st. The Scuba Camp will take place at the Georgia Aquatic Center in WatkinsvilleAthens Scuba is proud to announce that we are organizing Athens’ first ever Scuba Summer Camp for kids from age 10 to 17!  We are excited to teach children a variety of knowledge and skills around scuba diving\, snorkeling and swimming. In this summer camp\, required academics will be mixed with fun facts and educational videos. Water skills will be blended with fun activities\, free diving and more\, all of which will assist the future scuba divers in developing a better finning technique and airway control. The camp will not fully certify the participant\, but it will cover 2/3 of the full PADI Open Water Diver course. We will finish all knowledge and basic skill training with the children. The four check out dives required for full certification will be offered as an add-on later in the summer because the dives can’t be completed in a pool. Teaching scuba diving at the Georgia Aquatic CenterRequirements: Minimum age is 10 yearsKids must be able to swim before the camp startsCertain medical conditions will require a physicians sign offThe 5 Day Summer Camp from June 27th to July 1st 2022 includes: Daily Supervision from 9AM to 3 PMTwo dive professionals in the water at all times while the campers are in Life guard on duty whenever the campers will be in the waterSwim and snorkeling development\, supervised by a professional swim coach on days one and twoScuba knowledge development according to PADI standardsScuba skill development according to PADI standardsEach child gets their own gear set with a Mask\, Fins and SnorkelSnacks Water Grill out Friday afternoon with parentsParents are invited to join us Friday afternoon to check out the skills their children have learned and are encouraged to hop in and try scuba diving for free with us as well! Total price is $795 The price DOES NOT INCLUDE check out dives or lunch. For more information or questions about the scuba summer camp\, please email ben@scubadreamstravel.com
URL:https://scubadreamstravel.com/event/scuba-summer-camp/
LOCATION:Georgia Aquatic Center\, 1545 S Bishop Parkway\, Watkinsville\, Georgia\, 30677\, United States
CATEGORIES:Advanced Dives,Dive Trips To Different Locations,Local Event,Training & Certification Courses
ATTACH;FMTTYPE=image/jpeg:https://scubadreamstravel.com/wp-content/uploads/2021/07/79186.jpg
END:VEVENT
BEGIN:VEVENT
DTSTART;TZID=America/New_York:20220626T080000
DTEND;TZID=America/New_York:20220626T130000
DTSTAMP:20260420T183416
CREATED:20220120T193810Z
LAST-MODIFIED:20250313T175208Z
UID:10000485-1656230400-1656248400@scubadreamstravel.com
SUMMARY:PADI Open Water Diver course
DESCRIPTION:PADI Open Water check out dives 3-4
URL:https://scubadreamstravel.com/event/padi-open-water-diver-course-6/
LOCATION:Devils Fork State Park\, Lake Jocassee\, 161 Holcombe Cir\, Salem\, South Carolina\, 29676\, United States
CATEGORIES:Local Event,Training & Certification Courses
ATTACH;FMTTYPE=image/jpeg:https://scubadreamstravel.com/wp-content/uploads/2021/07/79191.jpg
END:VEVENT
BEGIN:VEVENT
DTSTART;TZID=America/New_York:20220625T130000
DTEND;TZID=America/New_York:20220625T180000
DTSTAMP:20260420T183416
CREATED:20220120T193742Z
LAST-MODIFIED:20250313T175208Z
UID:10000484-1656162000-1656180000@scubadreamstravel.com
SUMMARY:PADI Open Water Diver Course
DESCRIPTION:PADI Open Water Diver check out dives 1 and 2
URL:https://scubadreamstravel.com/event/padi-open-water-diver-course-5/
LOCATION:Devils Fork State Park\, Lake Jocassee\, 161 Holcombe Cir\, Salem\, South Carolina\, 29676\, United States
CATEGORIES:Local Event,Training & Certification Courses
ATTACH;FMTTYPE=image/jpeg:https://scubadreamstravel.com/wp-content/uploads/2021/07/79189.jpg
END:VEVENT
BEGIN:VEVENT
DTSTART;TZID=America/New_York:20220522T080000
DTEND;TZID=America/New_York:20220522T130000
DTSTAMP:20260420T183416
CREATED:20220120T193613Z
LAST-MODIFIED:20250313T175208Z
UID:10000482-1653206400-1653224400@scubadreamstravel.com
SUMMARY:PADI Open Water Diver course
DESCRIPTION:PADI Open Water check out dives 3-4
URL:https://scubadreamstravel.com/event/padi-open-water-diver-course-3/
LOCATION:Devils Fork State Park\, Lake Jocassee\, 161 Holcombe Cir\, Salem\, South Carolina\, 29676\, United States
CATEGORIES:Local Event,Training & Certification Courses
ATTACH;FMTTYPE=image/jpeg:https://scubadreamstravel.com/wp-content/uploads/2021/07/79191.jpg
END:VEVENT
BEGIN:VEVENT
DTSTART;TZID=America/New_York:20220521T130000
DTEND;TZID=America/New_York:20220521T180000
DTSTAMP:20260420T183416
CREATED:20220120T193703Z
LAST-MODIFIED:20250313T175209Z
UID:10000483-1653138000-1653156000@scubadreamstravel.com
SUMMARY:PADI Open Water Diver Course
DESCRIPTION:PADI Open Water Diver check out dives 1 and 2
URL:https://scubadreamstravel.com/event/padi-open-water-diver-course-4/
LOCATION:Devils Fork State Park\, Lake Jocassee\, 161 Holcombe Cir\, Salem\, South Carolina\, 29676\, United States
CATEGORIES:Local Event,Training & Certification Courses
ATTACH;FMTTYPE=image/jpeg:https://scubadreamstravel.com/wp-content/uploads/2021/07/79189.jpg
END:VEVENT
BEGIN:VEVENT
DTSTART;TZID=America/New_York:20220429T000000
DTEND;TZID=America/New_York:20220501T235959
DTSTAMP:20260420T183416
CREATED:20220215T222001Z
LAST-MODIFIED:20250313T175209Z
UID:10000487-1651190400-1651449599@scubadreamstravel.com
SUMMARY:Florida Springs Trip
DESCRIPTION:We have planned a trip to the Florida Springs from April 29th to May 1st. Sample picture of Blue GrottoThe Florida Springs trip is everyone’s favorite weekend getaway in the winter.The water is always 72 degrees and crystal clear. This trip is available to Students for their open water checkout dives.It’s also great for divers who didn’t dive for a while and want to get back into it.This is a great beginner diver trip with easy diving at springs like Devil’s Den\, Rainbow River\, Blue Grotto or Ginnie Springs.Sample picture of Ginnie Springs with crystal clear waterItinerary: Friday – Drive to Florida and check into Hotel\, Gainesville FLSaturday – Dive at a spring in the AM\, Lunch\, Dive Rainbow River in the AfternoonSunday – Dive at a spring in the AM\, head homeThe 3 Day Package includes: a 3 tank dive trip over two daysall dive feesstate park feestanks and weights2 nights at a hotel in Gainesville\, FL (based on double occupancy) included.Total price is $385 For information on single occupancy\, extra dives and other special requests\, please email ben@scubadreamstravel.com
URL:https://scubadreamstravel.com/event/florida-springs-trip-2/
LOCATION:Gainesville\, FL\, 4225 SW 40th Blvd\, Gainesville\, Florida\, 32608\, United States
CATEGORIES:Advanced Dives,Dive Trips To Different Locations,Local Event,Training & Certification Courses
ATTACH;FMTTYPE=image/jpeg:https://scubadreamstravel.com/wp-content/uploads/2022/01/Blue-Grotto-3.jpeg
END:VEVENT
END:VCALENDAR